BEGIN:VCALENDAR
PRODID:-//kirchenweb.ch gmbh//veranstaltungsausgabe v2.0//DE
VERSION:2.0
METHOD:PUBLISH
BEGIN:VEVENT
DTSTART:20990601T180000Z
DTEND:20990601T190000Z
LOCATION:Pfarreizentrum Gossau\, Chapfstrasse 25\, 8625 Gossau
TRANSP:OPAQUE
SEQUENCE:0
UID:6598-veranstaltung@kath-wetzikon.ch
DTSTAMP:20181121T132217Z
DESCRIPTION:Kontakt: frederik.schaller@kath-wetzikon.ch\n\nWeitere Infos:
  https://www.kath-wetzikon.ch/veranstaltung/6598
SUMMARY:Kirchgemeindeversammlung Gossau
PRIORITY:5
X-MICROSOFT-CDO-IMPORTANCE:1
CLASS:PUBLIC
END:VEVENT
END:VCALENDAR
