BEGIN:VCALENDAR
PRODID:-//kirchenweb.ch gmbh//veranstaltungsausgabe v2.0//DE
VERSION:2.0
METHOD:PUBLISH
BEGIN:VEVENT
DTSTART:20260629T170000Z
DTEND:20260629T180000Z
LOCATION:St. Franziskus Kirche\, Messikommerstrasse 14\, 8620 Wetzikon
TRANSP:OPAQUE
SEQUENCE:0
UID:25351-veranstaltung@kath-wetzikon.ch
DTSTAMP:20260413T145223Z
DESCRIPTION:Das älteste Zeugnis des Hochfestes "Peter und Paul" stammt
  aus dem Jahr 354\, die gemeinsame Verehrung der beiden Apostel Petrus und
  Paulus in Rom dürfte aber schon weiter zurückreichen.\n\nAm 29. Juni
  begeht die katholische Kirche das Hochfest "Peter und Paul". Die beiden
  Apostel Petrus und Paulus sind bis heute die beiden wichtigsten Säulen
  der Katholischen Kirche. Sie erlitten beide in den 60er-Jahren in Rom das
  Martyrium. Das älteste Zeugnis des Hochfestes "Peter und Paul" stammt
  aus dem Jahr 354. Die Tradition\, dass die beiden Apostel in Rom
  gemeinsam im Rahmen eines Festtages verehrt werden\, dürfte aber schon
  um einiges älter sein. Konstantinopel übernahm den 29. Juni als Datum
  jedenfalls im 6. Jahrhundert. In Jerusalem feierte die Urgemeinde das
  Apostelpaar im 5. Jahrhundert am 28. Dezember.\n\nDie Gräber der beiden
  Apostel befinden sich in Rom: Das Petrusgrab im Petersdom\, das
  Paulusgrab in der Basilika St. Paul vor den Mauern. Der 29. Juni als
  Gedenktag geht dabei nicht auf die Todestage der beiden Apostel zurück\,
  sondern vermutlich auf eine Rettungsaktion ihrer Gebeine im 3.
  Jahrhundert. Experten halten es für möglich\, dass im Zuge der
  Valerianischen Christenverfolgung (253 - 260 n. Chr.) die Reliquien der
  beiden Apostel von ihren ursprünglichen Gräbern an den sicheren Ort der
  heutigen Katakomben San Sebastiano gebracht wurden\, wo sie gemeinsam
  verehrt wurden. Später wurden die Gebeine wieder an ihren
  ursprünglichen Begräbnisstätten zurückgebracht. Die gemeinsame
  Verehrung am 29. Juni blieb.\n\nIn Rom bzw. im Vatikan wird das Fest
  besonders gefeiert. Petrus und Paulus sind die Stadtpatrone Roms. Die
  Römer haben an diesem Tag arbeitsfrei und feiern ihre Apostelfürsten
  und sich selbst mit Gottesdiensten\, Ausflügen aufs Land und
  volkstümlichen Vergnügungen. Traditionell segnet der Papst an diesem
  Tag die aus der Wolle zweier Lämmer gewebten Pallien für im vergangenen
  Jahr ernannte Erzbischöfe. Das mit Kreuzen bestickte weiße Schulterband
  soll seinen Träger an die Verbundenheit mit dem Papst erinnern. \n\n\n
 \nKontakt: redaktion.webseite@kath-wetzikon.ch\n\nWeitere Infos:
  https://www.kath-wetzikon.ch/veranstaltung/25351
SUMMARY:SF Heilige Messe\, Hochfest Peter & Paul
PRIORITY:5
X-MICROSOFT-CDO-IMPORTANCE:1
CLASS:PUBLIC
END:VEVENT
END:VCALENDAR
