BEGIN:VCALENDAR
PRODID:-//kirchenweb.ch gmbh//veranstaltungsausgabe v2.0//DE
VERSION:2.0
METHOD:PUBLISH
BEGIN:VEVENT
DTSTART:20260604T170000Z
DTEND:20260604T183000Z
LOCATION:St. Franziskuskirche\, Messikommerstrasse 14\, 8620 Wetzikon
TRANSP:OPAQUE
SEQUENCE:0
UID:25348-veranstaltung@kath-wetzikon.ch
DTSTAMP:20260413T144447Z
DESCRIPTION:Fronleichnam ist ein Hochfest der katholischen Kirche\, das
  jedes Jahr am zweiten Donnerstag nach Pfingsten gefeiert wird. Der Name
  kommt vom mittelhochdeutschen vrôn lîcham und bedeutet „Leib des
  Herrn“. Im Zentrum des Festes steht der Glaube\, dass Jesus Christus im
  heiligen Brot (der Eucharistie) wirklich gegenwärtig ist.\n\nDas Fest
  entstand im 13. Jahrhundert. Auslöser war unter anderem die Vision der
  heiligen Juliana von Lüttich\, die sich ein eigenes Fest zu Ehren der
  Eucharistie wünschte. Außerdem gab es ein eucharistisches Wunder im
  italienischen Ort Bolsena\, bei dem angeblich während einer Messe Blut
  aus einer Hostie tropfte. Papst Urban IV. führte daraufhin 1264 das
  Fronleichnamsfest für die gesamte Kirche ein.\n\nFronleichnam soll die
  Bedeutung der Eucharistie im kirchlichen Leben besonders hervorheben. An
  diesem Tag danken die Gläubigen für die Gegenwart Jesu im Sakrament und
  feiern die Verbindung zwischen Gott und den Menschen. Auch wenn das Fest
  kein Ereignis aus dem Leben Jesu darstellt – wie Weihnachten oder
  Ostern –\, gilt es als wichtiger Ausdruck des Glaubens und der
  Anbetung.\n\nIn der Schweiz ist Fronleichnam nur in katholischen Kantonen
  ein gesetzlicher Feiertag. Trotzdem wird es vielerorts mit festlichen
  Gottesdiensten und besonderen liturgischen Feiern begangen.\n\nKontakt:
  redaktion.webseite@kath-wetzikon.ch\n\nWeitere Infos:
  https://www.kath-wetzikon.ch/veranstaltung/25348
SUMMARY:SF Heilige Messe zu Fronleichnam mit Anbetung
PRIORITY:5
X-MICROSOFT-CDO-IMPORTANCE:1
CLASS:PUBLIC
END:VEVENT
END:VCALENDAR
