BEGIN:VCALENDAR
PRODID:-//kirchenweb.ch gmbh//veranstaltungsausgabe v2.0//DE
VERSION:2.0
METHOD:PUBLISH
BEGIN:VEVENT
DTSTART:20260602T104000Z
DTEND:20260602T114000Z
LOCATION:Heilig-Geist-Kirche\, \,
TRANSP:OPAQUE
SEQUENCE:0
UID:24527-veranstaltung@kath-wetzikon.ch
DTSTAMP:20260327T080617Z
DESCRIPTION:Am Dienstag\, 2. Juni 2026\, lädt der Seniorennachmittag
  „Zäme sii“ zum jährlichen Car-Ausflug ein: Die Route führt von
  Wetzikon über Turbenthal\, Bichelsee und Will zum gemütlichen
  Kaffeehalt im Restaurant Nollen – inklusive Gelegenheit für kleine
  Spaziergänge inmitten der malerischen Landschaft.\n\nNach der Pause geht
  es weiter durchs Toggenburg und über den Ricken und nach Gibswil\, wo
  ein Imbiss in der Gibswilerstube für Stärkung sorgt. Die Konsumation
  ist gemäss kleiner Karte im Car vorbestellbar. Zurück geht es übers
  Ghöch und Bäretswil nach Wetzikon\, wo der Car spätestens um 18:00 Uhr
  wieder eintrifft.\n\nGünstig und inklusiv: Die Carfahrt kostet 42
  Franken (exkl. Trinkgeld für den Chauffeur)\, der Kaffee im Restaurant
  Nollen ist bereits im Preis inbegriffen. Falls dazu ein Stück Torte oder
  ein Nussgipfel gwünscht ist\, muss dieser genauso wie die Konsumation
  beim Zvierihalt in Gibswil von den Teilnehmenden selbst bezahlt werden.\n
 \nAnmeldeschluss ist Freitag\, 22. Mai 2026 – der Ausflug findet bei
  jeder Witterung statt. Einsteigen kann man um 12:30 Uhr an der
  Reformierten Kirche Wetzikon oder um 12:40 Uhr am Pfarreizentrum Heilig
  Geist.\n\nInteressierte melden sich bitte bei Sozialdiakon Roman Schenk\,
  Reformierte Kirche Wetzikon\, Usterstrasse 8\, 8620 Wetzikon\, Telefon
  044 933 01 61 oder per E-Mail: roman.schenk@wetzikonref.ch.\n\nEin Tag
  voller Gemeinschaft\, Bewegung und Genuss – perfekt für einen
  entspannten Frühsommerausflug!\n\n\nKontakt: Roman Schenk
  (roman.schenk@wetzikonref.ch)\n\nWeitere Infos:
  https://www.kath-wetzikon.ch/veranstaltung/24527
SUMMARY:zäme sii - Car-Ausflug zum Nollen
PRIORITY:5
X-MICROSOFT-CDO-IMPORTANCE:1
CLASS:PUBLIC
END:VEVENT
END:VCALENDAR
