BEGIN:VCALENDAR
PRODID:-//kirchenweb.ch gmbh//veranstaltungsausgabe v2.0//DE
VERSION:2.0
METHOD:PUBLISH
BEGIN:VEVENT
DTSTART:20260517T163000Z
DTEND:20260517T173000Z
LOCATION:Kath. Pfarrei Gossau\, Chapfstrasse 25\, 8625 Gossau ZH
TRANSP:OPAQUE
SEQUENCE:0
UID:24403-veranstaltung@kath-wetzikon.ch
DTSTAMP:20260401T084611Z
DESCRIPTION:Maiandacht – Im Gebet von Wetzikon nach Gossau\n\nIm
  Marienmonat Mai sind wir besonders eingeladen\, durch Maria näher zu
  Jesus zu kommen. \n\nGemeinsam machen wir uns am 17. Mai 2026 auf den
  Gebetsweg von der St. Franziskus Kirche in Wetzikon zur Pfarrei Maria
  Krönung in Gossau. Unterwegs beten wir den Rosenkranz und tauschen
  besinnliche Gedanken aus. Den Abschluss bildet um 18.30 Uhr die
  Maiandacht in der Pfarrei Gossau\, gestaltet von Pfarrer Oscar Tassé und
  Vikar Matthias Renggli.\n\nStart: 16.45 Uhr\, St. Franziskus Kirche\,
  Wetzikon\nMaiandacht: 18.30 Uhr\, Pfarrei Maria Krönung\, Gossau\n\nWir
  freuen uns\, mit Ihnen gemeinsam die Mutter Gottes zu verehren und eine
  andächtige Zeit des Gebets zu erleben.\n\nKontakt:
  redaktion.webseite@kath-wetzikon.ch\n\nWeitere Infos:
  https://www.kath-wetzikon.ch/veranstaltung/24403
SUMMARY:Maiandacht in Gossau - 16.45 Uhr Start bei der
  St.-Franziskus-Kirche
PRIORITY:5
X-MICROSOFT-CDO-IMPORTANCE:1
CLASS:PUBLIC
END:VEVENT
END:VCALENDAR
