BEGIN:VCALENDAR
PRODID:-//kirchenweb.ch gmbh//veranstaltungsausgabe v2.0//DE
VERSION:2.0
METHOD:PUBLISH
BEGIN:VEVENT
DTSTART:20261201T130000Z
DTEND:20261201T160000Z
LOCATION:Pfarreizentrum Heilig-Geist\, Langfurrenstrasse 10\, 8623
  Wetzikon
TRANSP:OPAQUE
SEQUENCE:0
UID:24291-veranstaltung@kath-wetzikon.ch
DTSTAMP:20251215T104949Z
DESCRIPTION:Kontakt: diana.cundo@kath-wetzikon.ch\n\nWeitere Infos:
  https://www.kath-wetzikon.ch/veranstaltung/24291
SUMMARY:zäme sii - Adventsnachmittag mit Käthi Schmid Lauber und
  Kindersinfonie-Orchester
PRIORITY:5
X-MICROSOFT-CDO-IMPORTANCE:1
CLASS:PUBLIC
END:VEVENT
END:VCALENDAR
