BEGIN:VCALENDAR
PRODID:-//kirchenweb.ch gmbh//veranstaltungsausgabe v2.0//DE
VERSION:2.0
METHOD:PUBLISH
BEGIN:VEVENT
DTSTART:20260709T100000Z
DTEND:20260709T113000Z
LOCATION:Pfarreizentrum Heilig Geist\, Langfurrenstrasse 10\, 8623
  Wetzikon
TRANSP:OPAQUE
SEQUENCE:0
UID:23866-veranstaltung@kath-wetzikon.ch
DTSTAMP:20250903T092019Z
DESCRIPTION:Kontakt: Sekretariat\n\nWeitere Infos:
  https://www.kath-wetzikon.ch/veranstaltung/23866
SUMMARY:Mittagstisch
PRIORITY:5
X-MICROSOFT-CDO-IMPORTANCE:1
CLASS:PUBLIC
END:VEVENT
END:VCALENDAR
